BEGIN:VCALENDAR
VERSION:2.0
PRODID:-//Yumuktepe - ECPv6.15.20//NONSGML v1.0//EN
CALSCALE:GREGORIAN
METHOD:PUBLISH
X-ORIGINAL-URL:https://www.yumuktepe.com
X-WR-CALDESC:Yumuktepe için etkinlikler
REFRESH-INTERVAL;VALUE=DURATION:PT1H
X-Robots-Tag:noindex
X-PUBLISHED-TTL:PT1H
BEGIN:VTIMEZONE
TZID:Europe/Istanbul
BEGIN:STANDARD
TZOFFSETFROM:+0300
TZOFFSETTO:+0300
TZNAME:+03
DTSTART:20170101T000000
END:STANDARD
END:VTIMEZONE
BEGIN:VEVENT
DTSTART;VALUE=DATE:20180916
DTEND;VALUE=DATE:20180917
DTSTAMP:20260426T005010
CREATED:20180912T165150Z
LAST-MODIFIED:20180912T165150Z
UID:25739-1537056000-1537142399@www.yumuktepe.com
SUMMARY:İÇEL SANAT KULÜBÜ GÜNÜBİRLİK GEZİSİ
DESCRIPTION:GÜLEK KALESİ – TABYALAR – KARBOĞAZI\nÇEVRE\, DOĞA\, YÜRÜYÜŞ VE KÜLTÜR GEZİSİ\nKUMANYALI\nTARSUS KUZEYİ\nREZERVASYON ZORUNLUDUR.\nİSK SEKRETERLİĞİ : 238 10 88 – 233 87 01 – 0533 720 14 84\nGEZİ SORUMLULARI: YUSUF EKİZ – HANDAN GÜNEYLİ
URL:https://www.yumuktepe.com/etkinlik/icel-sanat-kulubu-gunubirlik-gezisi-5/
LOCATION:OPERA DURAĞI\, CUMHURİYET MEYDANI\, MERSİN
END:VEVENT
END:VCALENDAR