BEGIN:VCALENDAR
VERSION:2.0
PRODID:-//Yumuktepe - ECPv6.15.20//NONSGML v1.0//EN
CALSCALE:GREGORIAN
METHOD:PUBLISH
X-WR-CALNAME:Yumuktepe
X-ORIGINAL-URL:https://www.yumuktepe.com
X-WR-CALDESC:Yumuktepe için etkinlikler
REFRESH-INTERVAL;VALUE=DURATION:PT1H
X-Robots-Tag:noindex
X-PUBLISHED-TTL:PT1H
BEGIN:VTIMEZONE
TZID:Europe/Istanbul
BEGIN:STANDARD
TZOFFSETFROM:+0300
TZOFFSETTO:+0300
TZNAME:+03
DTSTART:20170101T000000
END:STANDARD
END:VTIMEZONE
BEGIN:VEVENT
DTSTART;TZID=Europe/Istanbul:20180921T200000
DTEND;TZID=Europe/Istanbul:20180921T200000
DTSTAMP:20260425T170708
CREATED:20181102T184729Z
LAST-MODIFIED:20181102T185530Z
UID:25862-1537560000-1537560000@www.yumuktepe.com
SUMMARY:Mersin Devlet Klasik Türk Müziği Korosu Konseri
DESCRIPTION:Şef : ÖNAY AKAN
URL:https://www.yumuktepe.com/etkinlik/mersin-devlet-klasik-turk-muzigi-korosu-konseri-8/
LOCATION:KÜLTÜR MERKEZİ\, CUMHURİYET MEYDANI\, MERSİN
END:VEVENT
END:VCALENDAR