BEGIN:VCALENDAR
VERSION:2.0
PRODID:-//Yumuktepe - ECPv6.15.20//NONSGML v1.0//EN
CALSCALE:GREGORIAN
METHOD:PUBLISH
X-WR-CALNAME:Yumuktepe
X-ORIGINAL-URL:https://www.yumuktepe.com
X-WR-CALDESC:Yumuktepe için etkinlikler
REFRESH-INTERVAL;VALUE=DURATION:PT1H
X-Robots-Tag:noindex
X-PUBLISHED-TTL:PT1H
BEGIN:VTIMEZONE
TZID:Europe/Istanbul
BEGIN:STANDARD
TZOFFSETFROM:+0300
TZOFFSETTO:+0300
TZNAME:+03
DTSTART:20170101T000000
END:STANDARD
END:VTIMEZONE
BEGIN:VEVENT
DTSTART;VALUE=DATE:20180923
DTEND;VALUE=DATE:20180924
DTSTAMP:20260425T135252
CREATED:20180912T173506Z
LAST-MODIFIED:20180912T173506Z
UID:25741-1537660800-1537747199@www.yumuktepe.com
SUMMARY:KUŞÇULAR BELEMEDİK GÜNÜBİRLİK GEZİ
DESCRIPTION:İÇEL SANAT KULÜBÜ nün düzenlediği \nAdana Kuzeyine\nÇevre\, kültür\, doğa\, yürüyüş gezisi\nKumanyalı
URL:https://www.yumuktepe.com/etkinlik/kuscular-belemedik-gunubirlik-gezi/
LOCATION:OPERA DURAĞI\, CUMHURİYET MEYDANI\, MERSİN
END:VEVENT
END:VCALENDAR