BEGIN:VCALENDAR
VERSION:2.0
PRODID:-//Yumuktepe - ECPv6.15.20//NONSGML v1.0//EN
CALSCALE:GREGORIAN
METHOD:PUBLISH
X-WR-CALNAME:Yumuktepe
X-ORIGINAL-URL:https://www.yumuktepe.com
X-WR-CALDESC:Yumuktepe için etkinlikler
REFRESH-INTERVAL;VALUE=DURATION:PT1H
X-Robots-Tag:noindex
X-PUBLISHED-TTL:PT1H
BEGIN:VTIMEZONE
TZID:Europe/Istanbul
BEGIN:STANDARD
TZOFFSETFROM:+0300
TZOFFSETTO:+0300
TZNAME:+03
DTSTART:20170101T000000
END:STANDARD
END:VTIMEZONE
BEGIN:VEVENT
DTSTART;TZID=Europe/Istanbul:20181006T100000
DTEND;TZID=Europe/Istanbul:20181006T100000
DTSTAMP:20260425T003734
CREATED:20180928T090941Z
LAST-MODIFIED:20180928T091927Z
UID:25759-1538820000-1538820000@www.yumuktepe.com
SUMMARY:XXIII. MERSİN ARKEOLOJİ GÜNLERİ - ( 2. GÜN)
DESCRIPTION:İÇEL SANAT KULÜBÜ \n1. Oturum \n10.00 Bülent Akbaş Slayt Gösterisi: “Dün – Bugün Mersin” – “Gertrude Bell’in İzinde” \nOturum Başkanı: Prof. Dr. Mustafa Hamdi Sayar\nKonuşmacılar:\n10.20 Doç. Dr. Hakan Öniz\, “2018 Yılı Mersin Su Altı Araştırmaları ve Dana Adası Tersanesi Çalışmaları”\n10.50 Doç. Dr. Mehmet Tekocak\, (Selçuk Üniversitesi) – “Anemurium Antik Kenti 2018 Yılı Kazı\, Restorasyon ve Çevre Düzenleme Çalışmaları”\n11.20 Fatma Yanık\, (Mersin Müzesi – Arkeolog)\, “Akkale Antik Liman Yerleşimi Kazısı 2018”\n11.50 Prof. Dr. Remzi Yağcı\, “Soli Pompeiopolis Kazıları 2018” \n12.20 – 13.30 ÖĞLE YEMEĞİ \n2. Oturum \nOturum Başkanı: Prof. Dr. Murat Durukan\nKonuşmacılar:\n13.30 Yrd. Doç. Dr. Serdar Girginer ve Arş. Gör. Özlem Girginer\, (Çukurova Ü.) – “Tatarlıhöyük Kazıları ve Son Gelişmeler”\n14.00 Doç. Dr. Halil Tekin\, (Hacettepe Üniversitesi) – “Türkiye Doğu Akdenizi’nin Geç Neolitiğinde Domuztepe’nin Konumu”\n14.30 Prof. Dr. Levent Zoroğlu\, “Kelenderis 2018 Kazıları”\n15.00 Prof. Dr. Emel Erten\, “Olba 2018”\n15.30 Öğr. Gör. Murat Özyıldırım ve Arş. Gör. Yavuz Yeğin\, “Olba Manastırı 2018 Yılı Kazı Sonuçları” \n3. Oturum\nOturum Başkanı: Prof. Dr. Remzi Yağcı\nKonuşmacılar:\n16.00 Prof. Dr. İsabella Caneva\, “Yumuktepe 2018 Kazıları”\n16.30 Prof. Dr. Annalisa Polosa – Dr. H. Asena Kızılarslanoğlu\, “Elaiussa Sebaste 2018 Yılı Kazı ve Restorasyon Çalışmaları”\n17.00 Yaşar Ünlü ve Orkun Kaycı\, (Mersin Müzesi)\, “Erdemli’nin Kaya Resimli Mağaraları”\n17.30 Feyza Zeybek\, (Dekor – Kostüm Tasarımcısı\, Ressam)\, Unesco 2018 Dünya Kültür Mirası Troya Yılı İçin Bildiri \n17.50 – 18.00 ÇAY MOLASI \n4. Oturum \nOturum Başkanı: Prof. Dr. Levent Zoroğlu\nKonuşmacılar:\n18.00 Doç. Dr. Ümit Aydınoğlu\, “Surveymersin 2018 – Dağlık Kilikia’da Kentleşme ve Kırsal\nYerleşimler Araştırması”\n18.30 Prof. Dr. Murat Durukan\, “Dağlık Kilikia’daki Tapınak Mezarlar” \nArkeoloji Komitesi: Sedat Aydöner – Tülay Özaydın – Semihi Vural – Prof. Dr. Serra Durugönül – Fatma Yanık – Hafize Bilgenoğlu
URL:https://www.yumuktepe.com/etkinlik/25759/
LOCATION:İÇEL SANAT  KULÜBÜ\, CAMİŞERİF MAH. SANAT SOKAĞI\, MERSİN
END:VEVENT
END:VCALENDAR