BEGIN:VCALENDAR
VERSION:2.0
PRODID:-//Yumuktepe - ECPv6.15.20//NONSGML v1.0//EN
CALSCALE:GREGORIAN
METHOD:PUBLISH
X-WR-CALNAME:Yumuktepe
X-ORIGINAL-URL:https://www.yumuktepe.com
X-WR-CALDESC:Yumuktepe için etkinlikler
REFRESH-INTERVAL;VALUE=DURATION:PT1H
X-Robots-Tag:noindex
X-PUBLISHED-TTL:PT1H
BEGIN:VTIMEZONE
TZID:Europe/Istanbul
BEGIN:STANDARD
TZOFFSETFROM:+0300
TZOFFSETTO:+0300
TZNAME:+03
DTSTART:20170101T000000
END:STANDARD
END:VTIMEZONE
BEGIN:VEVENT
DTSTART;TZID=Europe/Istanbul:20181017T173000
DTEND;TZID=Europe/Istanbul:20181017T173000
DTSTAMP:20260425T004316
CREATED:20181012T124106Z
LAST-MODIFIED:20181012T124106Z
UID:25788-1539797400-1539797400@www.yumuktepe.com
SUMMARY:ABİDİN YAĞMUR - Mersin'de Edebiyat ve Gazetecilik
DESCRIPTION:Çağdaş Yaşamı Destekleme Derneği Mersin Şubesi’nde Ziya Aykın tarafından  hazırlanıp sunulan “Çarşamba Söyleşileri”nin 2018-2019 sezon açılış Gazeteci Yazar ABİDİN YAĞMUR ile  yapılıyor.
URL:https://www.yumuktepe.com/etkinlik/abidin-yagmur-mersinde-edebiyat-ve-gazetecilik/
LOCATION:ÇAĞDAŞ YAŞAMI DESTEKLEME DERNEĞİ\, KÜLTÜR MAH. SİLİFKE CAD.\, MERSİN
END:VEVENT
BEGIN:VEVENT
DTSTART;TZID=Europe/Istanbul:20181017T180000
DTEND;TZID=Europe/Istanbul:20181017T180000
DTSTAMP:20260425T004316
CREATED:20181002T135909Z
LAST-MODIFIED:20181002T135909Z
UID:25773-1539799200-1539799200@www.yumuktepe.com
SUMMARY:MDOB - KONSER
DESCRIPTION:ÜCRETSİZ
URL:https://www.yumuktepe.com/etkinlik/mdob-konser/
LOCATION:LATİN İTALYAN KATOLİK KİLİSESİ\, URAY CADDESİ BAŞI\, MERSİN
END:VEVENT
BEGIN:VEVENT
DTSTART;TZID=Europe/Istanbul:20181017T190000
DTEND;TZID=Europe/Istanbul:20181017T190000
DTSTAMP:20260425T004316
CREATED:20181015T200605Z
LAST-MODIFIED:20181015T201645Z
UID:25802-1539802800-1539802800@www.yumuktepe.com
SUMMARY:MUSTAFA ESER- SERGİ
DESCRIPTION:MAKRO MERSİN 1001 DOĞA \nFotoğraf Sergisi
URL:https://www.yumuktepe.com/etkinlik/mustafa-eser-sergi/
LOCATION:OLBA FOTOĞRAF DERNEĞİ\, Eğriçam Mah. 2204 Sok. Safa Apt. A blok\, MERSİN
END:VEVENT
END:VCALENDAR