BEGIN:VCALENDAR
VERSION:2.0
PRODID:-//Yumuktepe - ECPv6.15.20//NONSGML v1.0//EN
CALSCALE:GREGORIAN
METHOD:PUBLISH
X-WR-CALNAME:Yumuktepe
X-ORIGINAL-URL:https://www.yumuktepe.com
X-WR-CALDESC:Yumuktepe için etkinlikler
REFRESH-INTERVAL;VALUE=DURATION:PT1H
X-Robots-Tag:noindex
X-PUBLISHED-TTL:PT1H
BEGIN:VTIMEZONE
TZID:Europe/Istanbul
BEGIN:STANDARD
TZOFFSETFROM:+0300
TZOFFSETTO:+0300
TZNAME:+03
DTSTART:20170101T000000
END:STANDARD
END:VTIMEZONE
BEGIN:VEVENT
DTSTART;TZID=Europe/Istanbul:20181031T103000
DTEND;TZID=Europe/Istanbul:20181031T103000
DTSTAMP:20260424T225301
CREATED:20181003T092239Z
LAST-MODIFIED:20181003T092239Z
UID:25779-1540981800-1540981800@www.yumuktepe.com
SUMMARY:Kitap Kurdu ile Can Haylazlara Karşı
DESCRIPTION:Mersin Devlet Opera ve Balesi \nÇocuk Müzikali \n10:30 ve 14:00 de
URL:https://www.yumuktepe.com/etkinlik/kitap-kurdu-ile-can-haylazlara-karsi-2/
LOCATION:KÜLTÜR MERKEZİ\, CUMHURİYET MEYDANI\, MERSİN
END:VEVENT
BEGIN:VEVENT
DTSTART;TZID=Europe/Istanbul:20181031T173000
DTEND;TZID=Europe/Istanbul:20181031T173000
DTSTAMP:20260424T225301
CREATED:20181102T202302Z
LAST-MODIFIED:20181102T202302Z
UID:25877-1541007000-1541007000@www.yumuktepe.com
SUMMARY:DR. RUHSAR UÇAR - TÜRKİYE'DE KADIN OLMAK
DESCRIPTION:Çağdaş Yaşamı Destekleme Derneği Mersin Şubesinde her hafta Ziya Aykın tarafından hazırlanan “Çarşamba Söyleşileri”nin konuğu Dr. Ruhsar Uçar. \nKonu : TÜRKİYEDE KADIN OLMAK
URL:https://www.yumuktepe.com/etkinlik/dr-ruhsar-ucar-turkiyede-kadin-olmak/
LOCATION:ÇAĞDAŞ YAŞAMI DESTEKLEME DERNEĞİ\, KÜLTÜR MAH. SİLİFKE CAD.\, MERSİN
END:VEVENT
END:VCALENDAR