BEGIN:VCALENDAR
VERSION:2.0
PRODID:-//Yumuktepe - ECPv6.15.20//NONSGML v1.0//EN
CALSCALE:GREGORIAN
METHOD:PUBLISH
X-WR-CALNAME:Yumuktepe
X-ORIGINAL-URL:https://www.yumuktepe.com
X-WR-CALDESC:Yumuktepe için etkinlikler
REFRESH-INTERVAL;VALUE=DURATION:PT1H
X-Robots-Tag:noindex
X-PUBLISHED-TTL:PT1H
BEGIN:VTIMEZONE
TZID:Europe/Istanbul
BEGIN:STANDARD
TZOFFSETFROM:+0300
TZOFFSETTO:+0300
TZNAME:+03
DTSTART:20170101T000000
END:STANDARD
END:VTIMEZONE
BEGIN:VEVENT
DTSTART;TZID=Europe/Istanbul:20181108T190000
DTEND;TZID=Europe/Istanbul:20181108T190000
DTSTAMP:20260424T225211
CREATED:20181108T084328Z
LAST-MODIFIED:20181108T084328Z
UID:25901-1541703600-1541703600@www.yumuktepe.com
SUMMARY:Ekoloji Sohbetleri - Zeytinyağı
DESCRIPTION:Feriha Saadet Erden
URL:https://www.yumuktepe.com/etkinlik/ekoloji-sohbetleri-zeytinyagi/
LOCATION:KÜLTÜRHANE\, Güvenevler Mah. 18.Cadde (Dikenliyol)\, Yenişehir/Mersin
END:VEVENT
BEGIN:VEVENT
DTSTART;TZID=Europe/Istanbul:20181108T200000
DTEND;TZID=Europe/Istanbul:20181108T200000
DTSTAMP:20260424T225211
CREATED:20181101T142416Z
LAST-MODIFIED:20181102T194511Z
UID:25849-1541707200-1541707200@www.yumuktepe.com
SUMMARY:MDOB - SENFONİK KONSER
DESCRIPTION:YENİ DÜNYA \nŞEF : NACİ ÖZGÜÇ \nSOLİST : TAYFUN BOZOK (Keman) \nMERSİN DEVLET OPERA VE BALESİ ORKESTRASI \n 
URL:https://www.yumuktepe.com/etkinlik/mdob-senfonik-konser-4/
LOCATION:KÜLTÜR MERKEZİ\, CUMHURİYET MEYDANI\, MERSİN
END:VEVENT
END:VCALENDAR