BEGIN:VCALENDAR
VERSION:2.0
PRODID:-//Yumuktepe - ECPv6.15.20//NONSGML v1.0//EN
CALSCALE:GREGORIAN
METHOD:PUBLISH
X-WR-CALNAME:Yumuktepe
X-ORIGINAL-URL:https://www.yumuktepe.com
X-WR-CALDESC:Yumuktepe için etkinlikler
REFRESH-INTERVAL;VALUE=DURATION:PT1H
X-Robots-Tag:noindex
X-PUBLISHED-TTL:PT1H
BEGIN:VTIMEZONE
TZID:Europe/Istanbul
BEGIN:STANDARD
TZOFFSETFROM:+0300
TZOFFSETTO:+0300
TZNAME:+03
DTSTART:20170101T000000
END:STANDARD
END:VTIMEZONE
BEGIN:VEVENT
DTSTART;VALUE=DATE:20181110
DTEND;VALUE=DATE:20181111
DTSTAMP:20260424T230218
CREATED:20181122T052556Z
LAST-MODIFIED:20181122T052556Z
UID:25930-1541808000-1541894399@www.yumuktepe.com
SUMMARY:1. Mersin Alevi Kadınlar Sempozyumu
DESCRIPTION:Tarihsel Süreçte Alevi Kadınlar ve Alevi Kadın Olma Deneyimleri \n10 – 11 Kasım 2018
URL:https://www.yumuktepe.com/etkinlik/1-mersin-alevi-kadinlar-sempozyumu/
LOCATION:YENİŞEHİR BEL. NİKAH SALONU\, MERSİN
END:VEVENT
END:VCALENDAR