BEGIN:VCALENDAR
VERSION:2.0
PRODID:-//Yumuktepe - ECPv6.15.20//NONSGML v1.0//EN
CALSCALE:GREGORIAN
METHOD:PUBLISH
X-WR-CALNAME:Yumuktepe
X-ORIGINAL-URL:https://www.yumuktepe.com
X-WR-CALDESC:Yumuktepe için etkinlikler
REFRESH-INTERVAL;VALUE=DURATION:PT1H
X-Robots-Tag:noindex
X-PUBLISHED-TTL:PT1H
BEGIN:VTIMEZONE
TZID:Europe/Istanbul
BEGIN:STANDARD
TZOFFSETFROM:+0300
TZOFFSETTO:+0300
TZNAME:+03
DTSTART:20170101T000000
END:STANDARD
END:VTIMEZONE
BEGIN:VEVENT
DTSTART;VALUE=DATE:20181121
DTEND;VALUE=DATE:20181122
DTSTAMP:20260424T225211
CREATED:20181108T091834Z
LAST-MODIFIED:20181108T091834Z
UID:25906-1542758400-1542844799@www.yumuktepe.com
SUMMARY:4. Mersin Uluslararası Tiyatro Festivali - Son Gün
DESCRIPTION:Bilgi için: 0533 244 56 89 – 0537 523 18 58
URL:https://www.yumuktepe.com/etkinlik/4-mersin-uluslararasi-tiyatro-festivali-son-gun/
LOCATION:ATATÜRK KÜLTÜR MERKEZİ\, YENİŞEHİR\, MERSİN
END:VEVENT
BEGIN:VEVENT
DTSTART;TZID=Europe/Istanbul:20181121T140000
DTEND;TZID=Europe/Istanbul:20181121T140000
DTSTAMP:20260424T225211
CREATED:20181101T145826Z
LAST-MODIFIED:20181101T145826Z
UID:25854-1542808800-1542808800@www.yumuktepe.com
SUMMARY:ARKEOLOJİ MÜZESİ KONSERİ
DESCRIPTION:MERSİN OPERA BÜYÜK SAHNE / MERSİN
URL:https://www.yumuktepe.com/etkinlik/arkeoloji-muzesi-konseri/
LOCATION:MERSİN ARKEOLOJİ MÜZESİ\, SAHİL YOLU MERSİN İDMAN YURDU KAPISI\, MERSİN
END:VEVENT
BEGIN:VEVENT
DTSTART;TZID=Europe/Istanbul:20181121T173000
DTEND;TZID=Europe/Istanbul:20181121T173000
DTSTAMP:20260424T225211
CREATED:20181115T090933Z
LAST-MODIFIED:20181115T090933Z
UID:25910-1542821400-1542821400@www.yumuktepe.com
SUMMARY:Prof. Ayşe Gül Yılgör
DESCRIPTION:Çağdaş Yaşamı Destekleme Derneği Mersin Şubesinde her hafta Ziya Aykın tarafından düzenlenen “Çarşamba Söyleşileri” nin konuğu Prof. Ayşe Gül Yılgör. Konu: 2018 yılının değer 2018 yılının ekononik ve siyasal değerlendirimesi. \n 
URL:https://www.yumuktepe.com/etkinlik/prof-ayse-gul-yilgor/
LOCATION:ÇAĞDAŞ YAŞAMI DESTEKLEME DERNEĞİ\, KÜLTÜR MAH. SİLİFKE CAD.\, MERSİN
END:VEVENT
BEGIN:VEVENT
DTSTART;TZID=Europe/Istanbul:20181121T193000
DTEND;TZID=Europe/Istanbul:20181121T193000
DTSTAMP:20260424T225211
CREATED:20181122T053011Z
LAST-MODIFIED:20181122T053011Z
UID:25931-1542828600-1542828600@www.yumuktepe.com
SUMMARY:YURTTAŞLIK DERNEĞİ -  GÜZ TARTIŞMALARI
DESCRIPTION:Yaklaşan Yerel Seçimler ve Ekonomik Kriz \nAyşe Gül Yılgör – Ulaş Bayraktar
URL:https://www.yumuktepe.com/etkinlik/yurttaslik-dernegi-guz-tartismalari/
LOCATION:KÜLTÜRHANE\, Güvenevler Mah. 18.Cadde (Dikenliyol)\, Yenişehir/Mersin
END:VEVENT
END:VCALENDAR