BEGIN:VCALENDAR
VERSION:2.0
PRODID:-//Yumuktepe - ECPv6.15.20//NONSGML v1.0//EN
CALSCALE:GREGORIAN
METHOD:PUBLISH
X-WR-CALNAME:Yumuktepe
X-ORIGINAL-URL:https://www.yumuktepe.com
X-WR-CALDESC:Yumuktepe için etkinlikler
REFRESH-INTERVAL;VALUE=DURATION:PT1H
X-Robots-Tag:noindex
X-PUBLISHED-TTL:PT1H
BEGIN:VTIMEZONE
TZID:Europe/Istanbul
BEGIN:STANDARD
TZOFFSETFROM:+0300
TZOFFSETTO:+0300
TZNAME:+03
DTSTART:20180101T000000
END:STANDARD
END:VTIMEZONE
BEGIN:VEVENT
DTSTART;TZID=Europe/Istanbul:20190128T133000
DTEND;TZID=Europe/Istanbul:20190128T133000
DTSTAMP:20260424T194355
CREATED:20190127T200507Z
LAST-MODIFIED:20190127T200507Z
UID:26645-1548682200-1548682200@www.yumuktepe.com
SUMMARY:Pazartesi Söyleşileri
DESCRIPTION:Türkiye Alzheimer Derneği Mersin Şubesi Yaşlı Yaşam Merkezinde her hafta Ziya Aykın tarafından hazırlanıp sunulan “Pazartesi Söyleşileri”nde önce iki genç yetenekten piyano dinleyeceğiz. \nSaat 13.30 da BENGİ DOĞAN \, daha sonra BİRGÜLÜŞ ESEN Piyano başına gececek \nSaat 14.00 de Mersin Üniversitesi Eğitim Fakültesi Eğitim Bilimleri Bölümü Öğretim Üyesi Dr. NURCAN ÇİÇEK “Mutlu Olmanın Yolları” başlıklı söyleşi yapacak.
URL:https://www.yumuktepe.com/etkinlik/pazartesi-soylesileri-14/
LOCATION:YAŞLI YAŞAM MERKEZİ\, 50. Yıl Mahallesi\, 15. Cd. No:27\, Yenişehir/Mersin
END:VEVENT
BEGIN:VEVENT
DTSTART;TZID=Europe/Istanbul:20190128T190000
DTEND;TZID=Europe/Istanbul:20190128T190000
DTSTAMP:20260424T194355
CREATED:20190127T185320Z
LAST-MODIFIED:20190127T185320Z
UID:26635-1548702000-1548702000@www.yumuktepe.com
SUMMARY:KÜLTÜRHANE de Sinema
DESCRIPTION:BÜKREŞ’İN DOĞUSU
URL:https://www.yumuktepe.com/etkinlik/kulturhane-de-sinema/
LOCATION:KÜLTÜRHANE\, Güvenevler Mah. 18.Cadde (Dikenliyol)\, Yenişehir/Mersin
END:VEVENT
END:VCALENDAR