BEGIN:VCALENDAR
VERSION:2.0
PRODID:-//Yumuktepe - ECPv6.15.20//NONSGML v1.0//EN
CALSCALE:GREGORIAN
METHOD:PUBLISH
X-ORIGINAL-URL:https://www.yumuktepe.com
X-WR-CALDESC:Yumuktepe için etkinlikler
REFRESH-INTERVAL;VALUE=DURATION:PT1H
X-Robots-Tag:noindex
X-PUBLISHED-TTL:PT1H
BEGIN:VTIMEZONE
TZID:Europe/Istanbul
BEGIN:STANDARD
TZOFFSETFROM:+0300
TZOFFSETTO:+0300
TZNAME:+03
DTSTART:20180101T000000
END:STANDARD
END:VTIMEZONE
BEGIN:VEVENT
DTSTART;TZID=Europe/Istanbul:20190221T103000
DTEND;TZID=Europe/Istanbul:20190221T140000
DTSTAMP:20260424T223312
CREATED:20190131T094637Z
LAST-MODIFIED:20190131T095227Z
UID:26657-1550745000-1550757600@www.yumuktepe.com
SUMMARY:ŞEKERONYA
DESCRIPTION:Mersin Devlet Opera ve Balesi \nTek Pedelik Çocuk Müzikali \n10.30 VE 14.00
URL:https://www.yumuktepe.com/etkinlik/sekeronya/
LOCATION:KÜLTÜR MERKEZİ\, CUMHURİYET MEYDANI\, MERSİN
END:VEVENT
END:VCALENDAR