BEGIN:VCALENDAR
VERSION:2.0
PRODID:-//Yumuktepe - ECPv6.15.20//NONSGML v1.0//EN
CALSCALE:GREGORIAN
METHOD:PUBLISH
X-WR-CALNAME:Yumuktepe
X-ORIGINAL-URL:https://www.yumuktepe.com
X-WR-CALDESC:Yumuktepe için etkinlikler
REFRESH-INTERVAL;VALUE=DURATION:PT1H
X-Robots-Tag:noindex
X-PUBLISHED-TTL:PT1H
BEGIN:VTIMEZONE
TZID:Europe/Istanbul
BEGIN:STANDARD
TZOFFSETFROM:+0300
TZOFFSETTO:+0300
TZNAME:+03
DTSTART:20180101T000000
END:STANDARD
END:VTIMEZONE
BEGIN:VEVENT
DTSTART;TZID=Europe/Istanbul:20190103T160000
DTEND;TZID=Europe/Istanbul:20190103T160000
DTSTAMP:20260424T182555
CREATED:20190108T155711Z
LAST-MODIFIED:20190108T155711Z
UID:26575-1546531200-1546531200@www.yumuktepe.com
SUMMARY:Mersin'in Fransız İşgalinden Kurtuluşu Anısına Resim Sergisi
DESCRIPTION:Karma Resim Sergisi
URL:https://www.yumuktepe.com/etkinlik/mersinin-fransiz-isgalinden-kurtulusu-anisina-resim-sergisi/
LOCATION:MERSİN DENİZ MÜZESİ\, SAHİL YOLU\, MERSİN
END:VEVENT
BEGIN:VEVENT
DTSTART;TZID=Europe/Istanbul:20190104T103000
DTEND;TZID=Europe/Istanbul:20190104T103000
DTSTAMP:20260424T182555
CREATED:20190108T135715Z
LAST-MODIFIED:20190108T135715Z
UID:26555-1546597800-1546597800@www.yumuktepe.com
SUMMARY:ŞEKORONYA
DESCRIPTION:TEK PERDELİK ÇOCUK MÜZİKALİ \n10.30 VE 14.00 DE
URL:https://www.yumuktepe.com/etkinlik/sekoronya/
LOCATION:KÜLTÜR MERKEZİ\, CUMHURİYET MEYDANI\, MERSİN
END:VEVENT
BEGIN:VEVENT
DTSTART;TZID=Europe/Istanbul:20190105T140000
DTEND;TZID=Europe/Istanbul:20190105T140000
DTSTAMP:20260424T182555
CREATED:20190108T141940Z
LAST-MODIFIED:20190108T141940Z
UID:26560-1546696800-1546696800@www.yumuktepe.com
SUMMARY:HASAN CANEL - HEYKEL SERGİSİ
DESCRIPTION:ARATOS kÜLTÜR SANATEVİ TARSUS
URL:https://www.yumuktepe.com/etkinlik/hasan-canel-heykel-sergisi/
LOCATION:ARATOS
END:VEVENT
BEGIN:VEVENT
DTSTART;TZID=Europe/Istanbul:20190106T083000
DTEND;TZID=Europe/Istanbul:20190106T083000
DTSTAMP:20260424T182555
CREATED:20190108T155337Z
LAST-MODIFIED:20190108T155337Z
UID:26572-1546763400-1546763400@www.yumuktepe.com
SUMMARY:Arslanköy-Yedigöz-Roma Pınarı-Şaymana
DESCRIPTION:İçel Sanat Kulübü günübirlik gezi \nrezervasyon zorunlu : 0238 10 88
URL:https://www.yumuktepe.com/etkinlik/arslankoy-yedigoz-roma-pinari-saymana/
LOCATION:OPERA DURAĞI\, CUMHURİYET MEYDANI\, MERSİN
END:VEVENT
BEGIN:VEVENT
DTSTART;TZID=Europe/Istanbul:20190107T140000
DTEND;TZID=Europe/Istanbul:20190107T140000
DTSTAMP:20260424T182555
CREATED:20190108T135913Z
LAST-MODIFIED:20190108T135913Z
UID:26556-1546869600-1546869600@www.yumuktepe.com
SUMMARY:ATATÜRK EVİ KONSERİ
DESCRIPTION:MERSİN DEVLET OPERA VE BALESİ \nPİYANOLU ŞAN KONSERİ  – ÜCRETSİZ
URL:https://www.yumuktepe.com/etkinlik/ataturk-evi-konseri-20/
LOCATION:KÜLTÜR MERKEZİ\, CUMHURİYET MEYDANI\, MERSİN
END:VEVENT
BEGIN:VEVENT
DTSTART;TZID=Europe/Istanbul:20190107T140000
DTEND;TZID=Europe/Istanbul:20190107T160000
DTSTAMP:20260424T182555
CREATED:20190108T135237Z
LAST-MODIFIED:20190108T135258Z
UID:26554-1546869600-1546876800@www.yumuktepe.com
SUMMARY:ŞİİR GÜNÜ
DESCRIPTION:Türkiye Alzheimer Derneği Mersin Şubesi Yaşlı Yaşam Merkezinde “Pazartesi Söyleşileri” nden olmak üzere Şiir paylaşımları yapılacak ve şiir konuşulacak. Hazırlayan ver sunan Ziya Aykın
URL:https://www.yumuktepe.com/etkinlik/siir-gunu/
LOCATION:YAŞLI YAŞAM MERKEZİ\, 50. Yıl Mahallesi\, 15. Cd. No:27\, Yenişehir/Mersin
END:VEVENT
BEGIN:VEVENT
DTSTART;TZID=Europe/Istanbul:20190108T200000
DTEND;TZID=Europe/Istanbul:20190108T200000
DTSTAMP:20260424T182555
CREATED:20190108T140048Z
LAST-MODIFIED:20190108T140048Z
UID:26557-1546977600-1546977600@www.yumuktepe.com
SUMMARY:NEŞET ERTAŞ TÜRKÜLERİ (SENFONİK)
DESCRIPTION:MDOB – MERSİN DEVLET OPERA VE BALESİ
URL:https://www.yumuktepe.com/etkinlik/neset-ertas-turkuleri-senfonik/
LOCATION:KÜLTÜR MERKEZİ\, CUMHURİYET MEYDANI\, MERSİN
END:VEVENT
BEGIN:VEVENT
DTSTART;TZID=Europe/Istanbul:20190109T173000
DTEND;TZID=Europe/Istanbul:20190109T173000
DTSTAMP:20260424T182555
CREATED:20190108T132605Z
LAST-MODIFIED:20190108T132605Z
UID:26552-1547055000-1547055000@www.yumuktepe.com
SUMMARY:MERAK VE TUTKU
DESCRIPTION:Çağdaş Yaşamı Destekleme Derneği Mersin Şubesi’nde her hafta Zita Aykın tarafından hazırlanıp sunulan “Çarşamba Söyleşileri”nin bu haftaki konuğu  Filozoflar Kenti Tarsus’tan  REMZİ KARABULUT olacak. Düşünür\, öykü yazarı\, şair ressam R. Karabulut “Merak ve Tutku” başlığı altında bir söyleşi gerçekleştirecek.
URL:https://www.yumuktepe.com/etkinlik/merak-ve-tutku/
LOCATION:ÇAĞDAŞ YAŞAMI DESTEKLEME DERNEĞİ\, KÜLTÜR MAH. SİLİFKE CAD.\, MERSİN
END:VEVENT
BEGIN:VEVENT
DTSTART;TZID=Europe/Istanbul:20190110T200000
DTEND;TZID=Europe/Istanbul:20190110T200000
DTSTAMP:20260424T182555
CREATED:20190108T141142Z
LAST-MODIFIED:20190108T141142Z
UID:26558-1547150400-1547150400@www.yumuktepe.com
SUMMARY:MDOB - FRIDA - BALE
DESCRIPTION:MERSİN DEVLET OPERA VE BALESİ \n 
URL:https://www.yumuktepe.com/etkinlik/mdob-frida-bale/
LOCATION:KÜLTÜR MERKEZİ\, CUMHURİYET MEYDANI\, MERSİN
END:VEVENT
BEGIN:VEVENT
DTSTART;TZID=Europe/Istanbul:20190110T200000
DTEND;TZID=Europe/Istanbul:20190110T200000
DTSTAMP:20260424T182555
CREATED:20190109T100057Z
LAST-MODIFIED:20190109T100057Z
UID:26577-1547150400-1547150400@www.yumuktepe.com
SUMMARY:NAZIM'CA
DESCRIPTION:CEM KURTOĞLU’NUN YÖNETTİĞİ\n“NAZIM’CA”\nADLI TİYATRO OYUNU \nBİLETLER : İÇEL SANAT KULÜBÜ SEKRETERLİĞİNDE  : 238 10 88
URL:https://www.yumuktepe.com/etkinlik/nazimca/
LOCATION:ATATÜRK KÜLTÜR MERKEZİ\, YENİŞEHİR\, MERSİN
END:VEVENT
BEGIN:VEVENT
DTSTART;TZID=Europe/Istanbul:20190112T200000
DTEND;TZID=Europe/Istanbul:20190112T200000
DTSTAMP:20260424T182555
CREATED:20190108T141547Z
LAST-MODIFIED:20190108T141547Z
UID:26559-1547323200-1547323200@www.yumuktepe.com
SUMMARY:MDOB - NEVİT KODALLI'YI ANMA GECESİ
DESCRIPTION:MERSİN DEVLET OPERA VE BALESİ \nDEVLET SANATÇISI \nPROF. NEVİT KODALLI’yı ANMA ETKİNLİĞİ
URL:https://www.yumuktepe.com/etkinlik/mdob-nevit-kodalliyi-anma-gecesi/
LOCATION:KÜLTÜR MERKEZİ\, CUMHURİYET MEYDANI\, MERSİN
END:VEVENT
BEGIN:VEVENT
DTSTART;TZID=Europe/Istanbul:20190113T083000
DTEND;TZID=Europe/Istanbul:20190113T083000
DTSTAMP:20260424T182555
CREATED:20190108T160016Z
LAST-MODIFIED:20190108T160016Z
UID:26576-1547368200-1547368200@www.yumuktepe.com
SUMMARY:İSK Günü Birlik Gezisi
DESCRIPTION:Cırman – Cemilli Göleti – Takanlı Orman Yolu \nMezitli kuzeyi ilk kez \nRez. : 533 720 14 84 \nGezi Sorumluları: Burcu Eser – Ceyhun Ekiz
URL:https://www.yumuktepe.com/etkinlik/isk-gunu-birlik-gezisi/
LOCATION:OPERA DURAĞI\, CUMHURİYET MEYDANI\, MERSİN
END:VEVENT
BEGIN:VEVENT
DTSTART;TZID=Europe/Istanbul:20190114T140000
DTEND;TZID=Europe/Istanbul:20190114T160000
DTSTAMP:20260424T182555
CREATED:20190108T152415Z
LAST-MODIFIED:20190116T071530Z
UID:26566-1547474400-1547481600@www.yumuktepe.com
SUMMARY:SÖZ GÜMÜŞ MÜ? SUKUT ALTIN MI ?
DESCRIPTION:Türkiye Alzheimer Derneği Mersin Şubesi Yaşlı Yaşam Merkezinde her hafta Ziya Aykın tarafından hazırlanıp sunulan “Pazartesi Söyleşileri” bu kez çok susmanın her zaman erdem olmadığını konu ediyor.
URL:https://www.yumuktepe.com/etkinlik/nazim-hikmet-2/
LOCATION:YAŞLI YAŞAM MERKEZİ\, 50. Yıl Mahallesi\, 15. Cd. No:27\, Yenişehir/Mersin
END:VEVENT
BEGIN:VEVENT
DTSTART;TZID=Europe/Istanbul:20190115T163000
DTEND;TZID=Europe/Istanbul:20190115T163000
DTSTAMP:20260424T182555
CREATED:20190115T090233Z
LAST-MODIFIED:20190115T090233Z
UID:26588-1547569800-1547569800@www.yumuktepe.com
SUMMARY:Nazım Hikmet'i Anma Etkinliği
DESCRIPTION:Atatürkçü Düşünce Derneği \nCumhuriyetçi Kadınlar Derneği \nÇağdaş Yaşamı Destekleme Derneği \nİçel Sanat Kulübü Derneği \nYeni Kuşak Köy Enstitüleri Derneği \nEğitim İş Sendikası \nİşbirliği ile \n  \n 
URL:https://www.yumuktepe.com/etkinlik/nazim-hikmeti-anma-etkinligi/
LOCATION:İÇEL SANAT  KULÜBÜ\, CAMİŞERİF MAH. SANAT SOKAĞI\, MERSİN
END:VEVENT
BEGIN:VEVENT
DTSTART;TZID=Europe/Istanbul:20190116T173000
DTEND;TZID=Europe/Istanbul:20190116T173000
DTSTAMP:20260424T182555
CREATED:20190108T134654Z
LAST-MODIFIED:20190108T134654Z
UID:26553-1547659800-1547659800@www.yumuktepe.com
SUMMARY:UĞUR PİŞMANLIK
DESCRIPTION:Çağdaş Yaşamı Destekleme Derneği Mersin Şubesi’nde her hafta Zita Aykın tarafından hazırlanıp sunulan “Çarşamba Söyleşileri”nin  konuğu  Filozoflar Kenti Tarsus’tan\, ARATOS Kültür ve Sanatevi kurucusu düşünür\, yazar\, fotoğrafcı UĞUR PİŞMANLIK\,  “Çölün Kraliçesi Zenobia’nın Kenti Palmira”  ve “Güneşin Sofrasındayız” adlı  fotoğraf  gösterileri yapacak.
URL:https://www.yumuktepe.com/etkinlik/ugur-pismanlik/
LOCATION:ÇAĞDAŞ YAŞAMI DESTEKLEME DERNEĞİ\, KÜLTÜR MAH. SİLİFKE CAD.\, MERSİN
END:VEVENT
BEGIN:VEVENT
DTSTART;TZID=Europe/Istanbul:20190116T190000
DTEND;TZID=Europe/Istanbul:20190116T190000
DTSTAMP:20260424T182555
CREATED:20190108T142116Z
LAST-MODIFIED:20190108T142116Z
UID:26562-1547665200-1547665200@www.yumuktepe.com
SUMMARY:LATİN İTALYAN KATOLİK KİLİSESİNDE KONSER
DESCRIPTION:MERSİN DEVLET OPERA VE BALESİ \nÜCRETSİZ
URL:https://www.yumuktepe.com/etkinlik/latin-italyan-katolik-kilisesinde-konser-7/
LOCATION:LATİN İTALYAN KATOLİK KİLİSESİ\, URAY CADDESİ BAŞI\, MERSİN
END:VEVENT
BEGIN:VEVENT
DTSTART;TZID=Europe/Istanbul:20190117T190000
DTEND;TZID=Europe/Istanbul:20190117T190000
DTSTAMP:20260424T182555
CREATED:20190117T112842Z
LAST-MODIFIED:20190117T112842Z
UID:26600-1547751600-1547751600@www.yumuktepe.com
SUMMARY:"MAYDAY" Fotoğraf Sergisi
DESCRIPTION:Mersin Fotoğraf Derneği \nTuncay DOĞRULUK \nEmel KARAKOZAK \nRaziye KÖKSAL  KARTAL \nAteş ALPAR \n 
URL:https://www.yumuktepe.com/etkinlik/mayday-fotograf-sergisi/
LOCATION:MERSİN FOTOĞRAF DERNEĞİ\, PALMİYE MAH. 1207 SOK. \, YENİŞEHİR - MERSİN
END:VEVENT
BEGIN:VEVENT
DTSTART;TZID=Europe/Istanbul:20190117T193000
DTEND;TZID=Europe/Istanbul:20190117T193000
DTSTAMP:20260424T182555
CREATED:20190117T133725Z
LAST-MODIFIED:20190117T133815Z
UID:26602-1547753400-1547753400@www.yumuktepe.com
SUMMARY:EMEL TAŞÇIOĞLU Konseri
DESCRIPTION:Ücretsiz
URL:https://www.yumuktepe.com/etkinlik/emel-tascioglu/
LOCATION:BÜYÜKŞEHİR BELEDİYESİ KONGRE VE SERGİ SARAYI\, İSMET İNÖNÜ BULVARI\, MERSİN
END:VEVENT
BEGIN:VEVENT
DTSTART;TZID=Europe/Istanbul:20190118T170000
DTEND;TZID=Europe/Istanbul:20190118T170000
DTSTAMP:20260424T182555
CREATED:20190117T115109Z
LAST-MODIFIED:20190117T115109Z
UID:26601-1547830800-1547830800@www.yumuktepe.com
SUMMARY:DENİZ YAKIN  Keman Dinletisi
DESCRIPTION:18 OCAK CUMA SAAT:17.00’DE\,\nİÇEL SANAT KULÜBÜ M.İLHAN-A.UĞURAL GALERİSİ’NDE\,\nDENİZ YAKIN (MEÜ Devlet Konservatuvarı Keman Sınıfı Öğrencisi)\nKEMAN DİNLETİSİ\nETKİNLİĞİ\nPİYANODA: MARİNA JINCHARADZE
URL:https://www.yumuktepe.com/etkinlik/deniz-yakin-keman-dinletisi/
LOCATION:İÇEL SANAT  KULÜBÜ\, CAMİŞERİF MAH. SANAT SOKAĞI\, MERSİN
END:VEVENT
BEGIN:VEVENT
DTSTART;TZID=Europe/Istanbul:20190118T170000
DTEND;TZID=Europe/Istanbul:20190118T170000
DTSTAMP:20260424T182555
CREATED:20190117T141809Z
LAST-MODIFIED:20190117T141809Z
UID:26604-1547830800-1547830800@www.yumuktepe.com
SUMMARY:CEREN YONUK ERGEN
DESCRIPTION:SERGİ
URL:https://www.yumuktepe.com/etkinlik/ceren-yonuk-ergen/
LOCATION:MERSİN TİCARET VE SANAYİ ODASI\, ATATÜRK CADDESİ  AKDENİZ\, MERSİN
END:VEVENT
BEGIN:VEVENT
DTSTART;TZID=Europe/Istanbul:20190118T200000
DTEND;TZID=Europe/Istanbul:20190118T200000
DTSTAMP:20260424T182555
CREATED:20190117T141708Z
LAST-MODIFIED:20190117T141708Z
UID:26603-1547841600-1547841600@www.yumuktepe.com
SUMMARY:Mersin Devlet Klasik Türk Müziği Korosu
DESCRIPTION:Mersin Üniversitesi Yenişehir Yerleşkesi
URL:https://www.yumuktepe.com/etkinlik/mersin-devlet-klasik-turk-muzigi-korosu/
LOCATION:MEÜ NEVİT KODALLI ODA MÜZİĞİ KONSER SALONU\, MEÜ YENİŞEHİR YERLEŞKESİ\, MERSİN
END:VEVENT
BEGIN:VEVENT
DTSTART;TZID=Europe/Istanbul:20190119T200000
DTEND;TZID=Europe/Istanbul:20190119T200000
DTSTAMP:20260424T182555
CREATED:20190108T142448Z
LAST-MODIFIED:20190108T142448Z
UID:26563-1547928000-1547928000@www.yumuktepe.com
SUMMARY:CARMEN - MERSİN DEVLET OPERA VE BALESİ
DESCRIPTION:2 PERDE  OPERA \nPRÖMİYER
URL:https://www.yumuktepe.com/etkinlik/carmen-mersin-devlet-opera-ve-balesi-4/
LOCATION:KÜLTÜR MERKEZİ\, CUMHURİYET MEYDANI\, MERSİN
END:VEVENT
BEGIN:VEVENT
DTSTART;TZID=Europe/Istanbul:20190120T083000
DTEND;TZID=Europe/Istanbul:20190120T083000
DTSTAMP:20260424T182555
CREATED:20190116T072110Z
LAST-MODIFIED:20190116T072110Z
UID:26599-1547973000-1547973000@www.yumuktepe.com
SUMMARY:Günü Birlik Gezi
DESCRIPTION:İçel Sanat Kulübünün yaklaşık 30 yıldan bu yana sürdürdüğü günü birlik  doğa\, kültür\, yürüyüş gezisi. \nİBRİŞİM – MUHAT – AKÇAKOCA  (Tarsus Kuzeyi) \nYer ayırtma zorunlu : 0533 720 14 84 \n 
URL:https://www.yumuktepe.com/etkinlik/gunu-birlik-gezi/
LOCATION:OPERA DURAĞI\, CUMHURİYET MEYDANI\, MERSİN
END:VEVENT
BEGIN:VEVENT
DTSTART;TZID=Europe/Istanbul:20190121T140000
DTEND;TZID=Europe/Istanbul:20190121T160000
DTSTAMP:20260424T182555
CREATED:20190118T082424Z
LAST-MODIFIED:20190118T084726Z
UID:26610-1548079200-1548086400@www.yumuktepe.com
SUMMARY:RUHİ SU ve TÜRKÜLERİ
DESCRIPTION:Ziya Aykın’ın hazırlayıp sunduğu “Pazartesi Söyleşileri” kapsamında bu kez sanatçı Orhan Tural söyleşisinde  Ruhi Su’yu anlatıp  Onun türkülerini çalıp söyleyecek.
URL:https://www.yumuktepe.com/etkinlik/ruhi-su-ve-turkuleri/
LOCATION:YAŞLI YAŞAM MERKEZİ\, 50. Yıl Mahallesi\, 15. Cd. No:27\, Yenişehir/Mersin
END:VEVENT
BEGIN:VEVENT
DTSTART;TZID=Europe/Istanbul:20190122T200000
DTEND;TZID=Europe/Istanbul:20190122T200000
DTSTAMP:20260424T182555
CREATED:20190108T142603Z
LAST-MODIFIED:20190108T142603Z
UID:26564-1548187200-1548187200@www.yumuktepe.com
SUMMARY:CARMEN - OPERA
DESCRIPTION:MERSİN DEVLET OPERA VE BALESİ \n2 PERDE
URL:https://www.yumuktepe.com/etkinlik/carmen-opera/
LOCATION:KÜLTÜR MERKEZİ\, CUMHURİYET MEYDANI\, MERSİN
END:VEVENT
BEGIN:VEVENT
DTSTART;TZID=Europe/Istanbul:20190123T173000
DTEND;TZID=Europe/Istanbul:20190123T173000
DTSTAMP:20260424T182555
CREATED:20190118T085309Z
LAST-MODIFIED:20190118T085309Z
UID:26611-1548264600-1548264600@www.yumuktepe.com
SUMMARY:Ruhsar Uçar "Dinle Kızım Elif" Kitap Tanıtımı İmza
DESCRIPTION:Çağdaş Yaşamı Destekleme Derneği Mersin Şubesi’nde her hafta Ziya Aykın tarafından hazırlanıp sunulan “Çarşamba Söyleşileri” bu kez çok farklı olacak. \nSöyleşi mekanı İçel Sanat Kulübü  \nKonu ise Ruhsar UÇAR tarafından yazılan kitaba ilişkin söyleşi ve imza
URL:https://www.yumuktepe.com/etkinlik/ruhsar-ucar-dinle-kizim-elif-kitap-tanitimi-imza/
LOCATION:İÇEL SANAT  KULÜBÜ\, CAMİŞERİF MAH. SANAT SOKAĞI\, MERSİN
END:VEVENT
BEGIN:VEVENT
DTSTART;TZID=Europe/Istanbul:20190123T200000
DTEND;TZID=Europe/Istanbul:20190123T200000
DTSTAMP:20260424T182555
CREATED:20190118T081847Z
LAST-MODIFIED:20190118T081847Z
UID:26609-1548273600-1548273600@www.yumuktepe.com
SUMMARY:MÜZİĞİ ANLAMAK
DESCRIPTION:Anlatıcı : Engin AKTUĞ \nEser : Lüdwig Van Beethoven “Re Majör Keman Konçertosu”
URL:https://www.yumuktepe.com/etkinlik/muzigi-anlamak/
LOCATION:KÜLTÜRHANE\, Güvenevler Mah. 18.Cadde (Dikenliyol)\, Yenişehir/Mersin
END:VEVENT
BEGIN:VEVENT
DTSTART;TZID=Europe/Istanbul:20190123T200000
DTEND;TZID=Europe/Istanbul:20190123T200000
DTSTAMP:20260424T182555
CREATED:20190124T090051Z
LAST-MODIFIED:20190124T090051Z
UID:26632-1548273600-1548273600@www.yumuktepe.com
SUMMARY:ENGİN AKTUĞ
DESCRIPTION:KÜLTÜRHANE yeni bir kültür prog. dizisi başlatıyor. Müzik İnsanı Engin Aktuğ büyük bestecilerin eserlerini tanıtıp anlıyor\, müziği okumayı kolaylaştırıyor. \nİlk Prog. Ludwig Van Baathovan – Re Majör Keman Konçertosu
URL:https://www.yumuktepe.com/etkinlik/engin-aktug/
LOCATION:KÜLTÜRHANE\, Güvenevler Mah. 18.Cadde (Dikenliyol)\, Yenişehir/Mersin
END:VEVENT
BEGIN:VEVENT
DTSTART;TZID=Europe/Istanbul:20190125T200000
DTEND;TZID=Europe/Istanbul:20190125T200000
DTSTAMP:20260424T182555
CREATED:20181102T190159Z
LAST-MODIFIED:20181102T190159Z
UID:25867-1548446400-1548446400@www.yumuktepe.com
SUMMARY:Mersin Devlet Klasik Türk Müziği Korosu Konseri
DESCRIPTION:ŞEF : ALİ POLATDEMİR
URL:https://www.yumuktepe.com/etkinlik/mersin-devlet-klasik-turk-muzigi-korosu-konseri-16/
END:VEVENT
BEGIN:VEVENT
DTSTART;TZID=Europe/Istanbul:20190125T200000
DTEND;TZID=Europe/Istanbul:20190125T200000
DTSTAMP:20260424T182555
CREATED:20190108T152641Z
LAST-MODIFIED:20190108T152641Z
UID:26567-1548446400-1548446400@www.yumuktepe.com
SUMMARY:MDOB- AYIN KONSERİ
DESCRIPTION:MERSİN DEVLET OPERA VE BALESİ \nKÜLTÜR MERKEZİ ŞEREF SALONU \nŞAN KONSERİ \nÜCRETSİZ
URL:https://www.yumuktepe.com/etkinlik/mdob-ayin-konseri-8/
LOCATION:KÜLTÜR MERKEZİ\, CUMHURİYET MEYDANI\, MERSİN
END:VEVENT
END:VCALENDAR